BEGIN:VCALENDAR
VERSION:2.0
PRODID:-//Bowling Tour Noord  - ECPv6.15.15//NONSGML v1.0//EN
CALSCALE:GREGORIAN
METHOD:PUBLISH
X-ORIGINAL-URL:https://www.bowlingtournoord.nl
X-WR-CALDESC:Evenementen voor Bowling Tour Noord 
REFRESH-INTERVAL;VALUE=DURATION:PT1H
X-Robots-Tag:noindex
X-PUBLISHED-TTL:PT1H
BEGIN:VTIMEZONE
TZID:UTC
BEGIN:STANDARD
TZOFFSETFROM:+0000
TZOFFSETTO:+0000
TZNAME:UTC
DTSTART:20250101T000000
END:STANDARD
END:VTIMEZONE
BEGIN:VEVENT
DTSTART;VALUE=DATE:20260315
DTEND;VALUE=DATE:20260316
DTSTAMP:20260424T165258
CREATED:20250715T193247Z
LAST-MODIFIED:20250715T204138Z
UID:58-1773532800-1773619199@www.bowlingtournoord.nl
SUMMARY:Coevorden Open
DESCRIPTION:
URL:https://www.bowlingtournoord.nl/event/coevorden-open/
LOCATION:plaza sports coevorden\, Klinkenvlier 1\, Coevorden\, 7742 PG\, Netherlands
CATEGORIES:Aankomende Toernooien
END:VEVENT
END:VCALENDAR