BEGIN:VCALENDAR
VERSION:2.0
PRODID:-//Bowling Tour Noord  - ECPv6.15.15//NONSGML v1.0//EN
CALSCALE:GREGORIAN
METHOD:PUBLISH
X-WR-CALNAME:Bowling Tour Noord 
X-ORIGINAL-URL:https://www.bowlingtournoord.nl
X-WR-CALDESC:Evenementen voor Bowling Tour Noord 
REFRESH-INTERVAL;VALUE=DURATION:PT1H
X-Robots-Tag:noindex
X-PUBLISHED-TTL:PT1H
BEGIN:VTIMEZONE
TZID:UTC
BEGIN:STANDARD
TZOFFSETFROM:+0000
TZOFFSETTO:+0000
TZNAME:UTC
DTSTART:20250101T000000
END:STANDARD
END:VTIMEZONE
BEGIN:VEVENT
DTSTART;VALUE=DATE:20260118
DTEND;VALUE=DATE:20260119
DTSTAMP:20260424T194859
CREATED:20250815T182644Z
LAST-MODIFIED:20250817T115746Z
UID:125-1768694400-1768694400@www.bowlingtournoord.nl
SUMMARY:ABC Open 2026
DESCRIPTION:12-01-2026 – 18-01-2026
URL:https://www.bowlingtournoord.nl/event/abc-open-2026/
LOCATION:Asser Bowling Centrum\, Groningerstraat 95\, Assen\, 9402LA
END:VEVENT
END:VCALENDAR