BEGIN:VCALENDAR
VERSION:2.0
PRODID:-//Bowling Tour Noord  - ECPv6.15.15//NONSGML v1.0//EN
CALSCALE:GREGORIAN
METHOD:PUBLISH
X-WR-CALNAME:Bowling Tour Noord 
X-ORIGINAL-URL:https://www.bowlingtournoord.nl
X-WR-CALDESC:Evenementen voor Bowling Tour Noord 
REFRESH-INTERVAL;VALUE=DURATION:PT1H
X-Robots-Tag:noindex
X-PUBLISHED-TTL:PT1H
BEGIN:VTIMEZONE
TZID:UTC
BEGIN:STANDARD
TZOFFSETFROM:+0000
TZOFFSETTO:+0000
TZNAME:UTC
DTSTART:20240101T000000
END:STANDARD
END:VTIMEZONE
BEGIN:VEVENT
DTSTART;VALUE=DATE:20251116
DTEND;VALUE=DATE:20251117
DTSTAMP:20260425T145712
CREATED:20250715T192913Z
LAST-MODIFIED:20250817T115952Z
UID:55-1763251200-1763337599@www.bowlingtournoord.nl
SUMMARY:BV Emmen Open hcp toernooi
DESCRIPTION:11-11-2025 – 16-11-2025
URL:https://www.bowlingtournoord.nl/event/bv-emmen-open-hcp-toernooi/
LOCATION:bowl en fun emmen\, Wilhelminastraat 83\, Emmen\, 7811 JJ\, Netherlands
CATEGORIES:Aankomende Toernooien
END:VEVENT
BEGIN:VEVENT
DTSTART;VALUE=DATE:20251005
DTEND;VALUE=DATE:20251006
DTSTAMP:20260425T145712
CREATED:20250715T192408Z
LAST-MODIFIED:20250817T120113Z
UID:52-1759622400-1759708799@www.bowlingtournoord.nl
SUMMARY:BV Assen Open 2025
DESCRIPTION:27-09-2025 – 5-10-2025
URL:https://www.bowlingtournoord.nl/event/bv-assen-open-2025/
LOCATION:Plaza sports Assen\, Stelmakerstraat 17\, Assen\, 9403 VB\, Netherlands
CATEGORIES:Aankomende Toernooien
END:VEVENT
END:VCALENDAR